BEGIN:VCALENDAR
VERSION:2.0
PRODID:-//Squarespace Inc/Squarespace 6//v6//EN
BEGIN:VEVENT
UID:5fd3009f248ae5761f461fa4@squarespace.com
DTSTAMP:20210222T025057Z
DTSTART:20210312T223000Z
DTEND:20210313T023000Z
SUMMARY:All For Kids Market- Werribee
GEO:-37.883574;144.648322
LOCATION:Werribee Italian Sports Club\, 601 Heaths Road\, Werribee\, VIC\, 
 3030\, Australia
END:VEVENT
END:VCALENDAR
