BEGIN:VCALENDAR
VERSION:2.0
PRODID:-//Squarespace Inc/Squarespace 6//v6//EN
BEGIN:VEVENT
UID:5fd306d2eeb1f13c053a11de@squarespace.com
DTSTAMP:20201211T080919Z
DTSTART:20210409T230000Z
DTEND:20210410T030000Z
SUMMARY:All For Kids Market- Broadmeadows
GEO:-37.681161;144.915457
LOCATION:Broadmeadows Aquatic & Leisure Centre\, 41-85 Tanderrum Way\, Broa
 dmeadows\, VIC\, 3047\, Australia
END:VEVENT
END:VCALENDAR
