BEGIN:VCALENDAR
VERSION:2.0
PRODID:-//Squarespace Inc/Squarespace 6//v6//EN
BEGIN:VEVENT
UID:5e210207a917cc6d148f03f5@squarespace.com
DTSTAMP:20210222T014029Z
DTSTART:20210319T220000Z
DTEND:20210320T020000Z
SUMMARY:All For Kids Market - Hurstbridge 
GEO:-37.636322;145.198358
LOCATION:Hurstbridge Hall\, 974 Heidelberg-Kinglake Road\, Hurstbridge\, VI
 C\, 3099\, Australia
END:VEVENT
END:VCALENDAR
